Workbook

Sheet Summary
A1: Friendship Ambulance
A2: Projected Upper Providence Truck Operating Cost Projection
A3: As of December 2017
A5: Upper Providence Truck Projection | F5: Upper Providence Call/Bill Volume Assumption
A6: Income | B6: Monthly | C6: Annual | F6: Upper Providence Recovery (Non-Parkhouse) | K6: Upper Providence Recovery (Parkhouse)
A7: EMS Billing | B7: =C7/12 -> 26562.5 | C7: =I24 -> 318750 | I7: 2016 | N7: 2016
A8: Fund Drive | B8: =C8/12 -> 1666.6667 | C8: 20000 | H8: Responses (See Exh B) | I8: ='2016 UP Billed Data'!B76 -> 227 | M8: Responses (See Exh B) | N8: ='2016 UP Billed Data'!B80 -> 616
A9: Annual Donations/Contributions (Pharma) | B9: =C9/12 -> 6250 | C9: 75000 | H9: Gross Billed | I9: ='2016 UP Billed Data'!C76 -> 266677.8 | M9: Gross Billed | N9: ='2016 UP Billed Data'!C80 -> 568388.89
A10: Total Operating Income | B10: =SUM(B7:B9) -> 34479.167 | C10: =SUM(C7:C9) -> 413750 | H10: Contractual Allowance | I10: =-'2016 UP Billed Data'!D76 -> -120003 | M10: Contractual Allowance | N10: =-'2016 UP Billed Data'!D80 -> -349602.97
H11: Net Billed | I11: ='2016 UP Billed Data'!E76 -> 146674.8 | M11: Net Billed | N11: ='2016 UP Billed Data'!E80 -> 218785.92
A12: Expenses | B12: Monthly | C12: Annual | D12: Responsibility | H12: Write-Off | I12: =-'2016 UP Billed Data'!F76 -> -41481.69 | M12: Write-Off | N12: =-'2016 UP Billed Data'!F80 -> -24829.76
A13: Payroll | B13: =C13/12 -> 28855.583 | C13: =I37+N37-C14 -> 346266.99 | D13: Friendship | H13: Balance Due | I13: =-'2016 UP Billed Data'!G76 -> -5031.26 | M13: Balance Due | N13: =-'2016 UP Billed Data'!G80 -> -1788.57
A14: Workers Compensation | B14: =C14/12 -> 2029.1385 | C14: =(I31*I36)+(N31*N36) -> 24349.662 | D14: Friendship | H14: Net Collected | I14: ='2016 UP Billed Data'!H76 -> 100161.85 | M14: Net Collected | N14: ='2016 UP Billed Data'!H80 -> 192167.59
A15: Personnel Total | B15: =SUM(B13:B14) -> 30884.721 | C15: =SUM(C13:C14) -> 370616.65 | H15: Average Gross Billed | I15: =I9/I8 -> 1174.7921 | M15: Average Gross Billed | N15: =N9/N8 -> 922.70924
H16: Average Gross Recovery | I16: =I14/I9 -> 0.37559126 | M16: Average Gross Recovery | N16: =N14/N9 -> 0.33809174
A17: Rent (Friendship Historcal Avg) | B17: =C17/12 -> 0 | C17: 0 | D17: Upper Providence | H17: Average Collected | I17: =I15*I16 -> 441.24163 | M17: Average Collected | N17: =N15*N16 -> 311.96037
A18: Office Supplies | B18: 0 | C18: 0 | D18: Friendship
A19: Electric/Water | B19: 0 | C19: 0 | D19: Upper Providence | F19: Projected Call Volume New Upper Providence Truck
A20: Internet/TV/Phone | B20: 0 | C20: 0 | D20: Upper Providence | H20: Projected Calls (See Exb A) | I20: 750
A21: Office/Occupancy Total | B21: =SUM(B17:B20) -> 0 | C21: =SUM(C17:C20) -> 0 | H21: Friendship Historic Unbillable % | I21: 0.15
H22: Billable Calls | I22: =I20*(1-I21) -> 637.5
A23: Vehicle Amortization (7 Year Life) | B23: =C23/12 -> 0 | C23: 0 | D23: Upper Providence | H23: Avg Collected Per Billable Call UP (See Exh B) | I23: 500
A24: Cap Cost Amort. (Cardiac Monitor/Radios/Etc.) (5 year Life) | B24: =C24/12 -> 0 | C24: 0 | D24: Upper Providence | H24: Average Collected | I24: =I23*I22 -> 318750
A25: Fuel | B25: 0 | C25: 0 | D25: Upper Providence
A26: Insurance | B26: =C26/12 -> 0 | C26: 0 | D26: Upper Providence
A27: Medical Supplies | B27: =C27/12 -> 1333.3333 | C27: 16000 | D27: Friendship | F27: Payroll Assumptions
A28: Operations Total | B28: =SUM(B23:B27) -> 1333.3333 | C28: =SUM(C23:C27) -> 16000 | F28: Standard | K28: Overtime/Holiday
G29: EMT-P | H29: EMT | I29: Crew Cost | L29: EMT-P | M29: EMT | N29: Crew Cost
A30: Total Expenses | B30: =B15+B21+B28 -> 32218.054 | C30: =C15+C21+C28 -> 386616.65 | F30: Base | G30: 20 | H30: 16 | I30: =G30+H30 -> 36 | K30: Base | L30: =G30*1.5 -> 30 | M30: =H30*1.5 -> 24 | N30: =L30+M30 -> 54
F31: Workers Comp | G31: =G30/100*7.57 -> 1.514 | H31: =H30/100*7.57 -> 1.2112 | I31: =G31+H31 -> 2.7252 | K31: Workers Comp | L31: =L30/100*7.57 -> 2.271 | M31: =M30/100*7.57 -> 1.8168 | N31: =L31+M31 -> 4.0878
A32: Total Income(Loss) Friendship | B32: =B10-B15-B18-B27 -> 2261.1123 | C32: =C10-C15-C18-C27 -> 27133.348 | D32: Friendship | F32: Corp Tax | G32: =G30*0.0765 -> 1.53 | H32: =H30*0.0765 -> 1.224 | I32: =G32+H32 -> 2.754 | K32: Corp Tax | L32: =L30*0.0765 -> 2.295 | M32: =M30*0.0765 -> 1.836 | N32: =L32+M32 -> 4.131
A33: Upper Providence Subsidized Costs | B33: =-B19-B20-B23-B25-B26-B24-B17 -> 0 | C33: =-C19-C20-C23-C25-C26-C24-C17 -> 0 | D33: Upper Providence | F33: Hourly Cost | G33: =SUM(G30:G32) -> 23.044 | H33: =SUM(H30:H32) -> 18.4352 | I33: =G33+H33 -> 41.4792 | K33: Hourly Cost | L33: =SUM(L30:L32) -> 34.566 | M33: =SUM(M30:M32) -> 27.6528 | N33: =L33+M33 -> 62.2188
A34: Total Income(Loss) | B34: =B10-B30 -> 2261.1123 | C34: =C10-C30 -> 27133.348
H35: Standard Crew Cost | I35: =I33 -> 41.4792 | M35: Holiday/Overtime Crew Cost | N35: =N33 -> 62.2188
B36: =B32+B33-B34 -> 0 | C36: =C32+C33-C34 -> 0 | H36: Hours | I36: =(365*24)-N36 -> 8410 | M36: Hours (4% Estimate) | N36: =ROUNDDOWN(365*24*0.04,0) -> 350
H37: Annual Standard Crew Cost | I37: =I35*I36 -> 348840.07 | M37: Annual Overtime Crew Cost | N37: =N35*N36 -> 21776.58

Sheet Response Projection
A1: Friendship Ambulance
A2: Projected New Truck Call Volume LP/Trappe Area (Based on 2017 Info Provided By Trappe Ambulance and LP Estimate)
A3: Exhibit A
B5: Actual | C5: Actual | D5: Actual | E5: Actual | F5: Actual | G5: Actual | H5: Actual | I5: Actual | J5: Actual | K5: Actual | L5: Projected | M5: Projected | N5: Projected
B6: Jan | C6: Feb | D6: Mar | E6: Apr | F6: May | G6: Jun | H6: Jul | I6: Aug | J6: Sep | K6: Oct | L6: Nov | M6: Dec | N6: Total
A7: Main | B7: 43 | C7: 47 | D7: 34 | E7: 39 | F7: 50 | G7: 47 | H7: 27 | I7: 57 | J7: 35 | K7: 49 | L7: =ROUNDDOWN(SUM(B7:K7)/10,0) -> 42 | M7: =ROUNDDOWN(SUM(B7:K7)/10,0) -> 42 | N7: =SUM(B7:M7) -> 512
A8: Limerick | B8: 7 | C8: 4 | D8: 5 | E8: 2 | F8: 9 | G8: 9 | H8: 5 | I8: 3 | J8: 5 | K8: 8 | L8: =ROUNDDOWN(SUM(B8:K8)/10,0) -> 5 | M8: =ROUNDDOWN(SUM(B8:K8)/10,0) -> 5 | N8: =SUM(B8:M8) -> 67
A9: Phoenixville | B9: 13 | C9: 16 | D9: 16 | E9: 11 | F9: 24 | G9: 17 | H9: 17 | I9: 20 | J9: 24 | K9: 28 | L9: =ROUNDDOWN(SUM(B9:K9)/10,0) -> 18 | M9: =ROUNDDOWN(SUM(B9:K9)/10,0) -> 18 | N9: =SUM(B9:M9) -> 222
A10: 322 Sub Station | B10: 19 | C10: 19 | D10: 19 | E10: 19 | F10: 19 | G10: 19 | H10: 19 | I10: 19 | J10: 19 | K10: 19 | L10: 19 | M10: 19 | N10: =SUM(B10:M10) -> 228
A11: Total | B11: =SUM(B7:B10) -> 82 | C11: =SUM(C7:C10) -> 86 | D11: =SUM(D7:D10) -> 74 | E11: =SUM(E7:E10) -> 71 | F11: =SUM(F7:F10) -> 102 | G11: =SUM(G7:G10) -> 92 | H11: =SUM(H7:H10) -> 68 | I11: =SUM(I7:I10) -> 99 | ... N11: =SUM(N7:N10) -> 1029
M12: Attrition (See Sch C) | N12: ='2016 UP Responses'!W100 -> 0.31853496
M13: Total Calls Assumed | N13: =ROUNDDOWN(N11*(1-N12),0) -> 701

Sheet 2016 UP Billed Data
A1: Friendship Ambulance
A2: 2016 Billable Upper Providence Calls
A3: Exhibit B
A5: Street Name | B5: Responses | C5: Gross Billed | D5: Contractual Allowance | E5: Net Billed | F5: Write-Off | G5: Balance Due | H5: Net Collected | I5: Average Gross Billed | J5: Average Recovery | K5: Average Collected
A6: 2nd Ave | B6: 3 | C6: 3583.4 | D6: 1322.78 | E6: 2260.62 | F6: 0 | G6: 0 | H6: 2260.62 | I6: =C6/B6 -> 1194.4667 | J6: =H6/C6 -> 0.63085896 | K6: =I6*J6 -> 753.54
A7: 2nd Ave and Vaughn Rd | B7: 1 | C7: 200 | D7: 40 | E7: 160 | F7: 0 | G7: 0 | H7: 160 | I7: =C7/B7 -> 200 | J7: =H7/C7 -> 0.8 | K7: =I7*J7 -> 160
A8: 422 E @ Collegeville | B8: 11 | C8: 14474.3 | D8: 3173.19 | E8: 11301.11 | F8: 6484.8 | G8: 0 | H8: 4816.31 | I8: =C8/B8 -> 1315.8455 | J8: =H8/C8 -> 0.33274908 | K8: =I8*J8 -> 437.84636
A9: 422 E @ Royersford | B9: 4 | C9: 3990.8 | D9: 1374.63 | E9: 2616.17 | F9: 200 | G9: 0 | H9: 2416.17 | I9: =C9/B9 -> 997.7 | J9: =H9/C9 -> 0.605435 | K9: =I9*J9 -> 604.0425
A10: 422 W @ Collegeville | B10: 8 | C10: 4397.1 | D10: 1999.31 | E10: 2397.79 | F10: 600 | G10: 0 | H10: 1797.79 | I10: =C10/B10 -> 549.6375 | J10: =H10/C10 -> 0.40885811 | K10: =I10*J10 -> 224.72375
A11: 422 W @ Royersford | B11: 1 | C11: 749 | D11: 629 | E11: 120 | F11: 0 | G11: 0 | H11: 120 | I11: =C11/B11 -> 749 | J11: =H11/C11 -> 0.16021362 | K11: =I11*J11 -> 120
A12: Arcola Rd | B12: 1 | C12: 840.8 | D12: 0 | E12: 840.8 | F12: 0 | G12: 0 | H12: 840.8 | I12: =C12/B12 -> 840.8 | J12: =H12/C12 -> 1 | K12: =I12*J12 -> 840.8
A13: Bellmont Dr | B13: 1 | C13: 939.4 | D13: 476.12 | E13: 463.28 | F13: 0 | G13: 0 | H13: 463.28 | I13: =C13/B13 -> 939.4 | J13: =H13/C13 -> 0.49316585 | K13: =I13*J13 -> 463.28
A14: Bennington Rd | B14: 1 | C14: 941.1 | D14: 484.53 | E14: 456.57 | F14: 0 | G14: 0 | H14: 456.57 | I14: =C14/B14 -> 941.1 | J14: =H14/C14 -> 0.48514504 | K14: =I14*J14 -> 456.57
A15: Black Rock Rd | B15: 5 | C15: 5900.7 | D15: 3647.1 | E15: 2253.6 | F15: 0 | G15: 95.4 | H15: 2158.2 | I15: =C15/B15 -> 1180.14 | J15: =H15/C15 -> 0.36575322 | K15: =I15*J15 -> 431.64
A16: Black Rock Rd and 2nd Ave | B16: 1 | C16: 200 | D16: 0 | E16: 200 | F16: 0 | G16: 0 | H16: 200 | I16: =C16/B16 -> 200 | J16: =H16/C16 -> 1 | K16: =I16*J16 -> 200
A17: Buckwalter Cir | B17: 1 | C17: 200 | D17: 0 | E17: 200 | F17: 0 | G17: 0 | H17: 200 | I17: =C17/B17 -> 200 | J17: =H17/C17 -> 1 | K17: =I17*J17 -> 200
... A75: Yeager Rd | B75: 3 | C75: 5066.6 | D75: 2499.48 | E75: 2567.12 | F75: 175 | G75: 0 | H75: 2392.12 | I75: =C75/B75 -> 1688.8667 | J75: =H75/C75 -> 0.47213516 | K75: =I75*J75 -> 797.37333
A76: Total | B76: =SUM(B6:B75) -> 227 | C76: =SUM(C6:C75) -> 266677.8 | D76: =SUM(D6:D75) -> 120003 | E76: =SUM(E6:E75) -> 146674.8 | F76: =SUM(F6:F75) -> 41481.69 | G76: 5031.26 | H76: =SUM(H6:H75) -> 100161.85 | I76: =C76/B76 -> 1174.7921 | J76: =H76/C76 -> 0.37559126 | K76: =I76*J76 -> 441.24163
A78: Street Name | B78: Responses | C78: Gross Billed | D78: Contractual Allowance | E78: Net Billed | F78: Write-Off | G78: Balance Due | H78: Net Collected | I78: Average Gross Billed | J78: Average Recovery | K78: Average Collected
A79: Black Rock Rd (Parkhouse) | B79: 616 | C79: 568388.89 | D79: 349602.97 | E79: 218785.92 | F79: 24829.76 | G79: 1788.57 | H79: 192167.59 | I79: =C79/B79 -> 922.70924 | J79: =H79/C79 -> 0.33809174 | K79: =I79*J79 -> 311.96037
A80: Total | B80: =B79 -> 616 | C80: =C79 -> 568388.89 | D80: =D79 -> 349602.97 | E80: =E79 -> 218785.92 | F80: =F79 -> 24829.76 | G80: =G79 -> 1788.57 | H80: =H79 -> 192167.59 | I80: =C80/B80 -> 922.70924 | J80: =H80/C80 -> 0.33809174 | K80: =I80*J80 -> 311.96037
A82: Total | B82: =B80+B76 -> 843 | C82: =C80+C76 -> 835066.69 | D82: =D80+D76 -> 469605.97 | E82: =E80+E76 -> 365460.72 | F82: =F80+F76 -> 66311.45 | G82: =G80+G76 -> 6819.83 | H82: =H80+H76 -> 292329.44 | I82: =C82/B82 -> 990.58919 | J82: =H82/C82 -> 0.35006718 | K82: =I82*J82 -> 346.77276

Sheet 2016 UP Responses
A1: Friendship Ambulance
A2: 2016 Upper Providence Responses By Street (Excluding 325 Area)
A3: Exhibit C
A5: 324 Responses | G5: 3A85 Responses | M5: 322A Responses 6AM to 6PM | S5: 322A Responses 6PM to 6AM
A6: 324 Retains | D6: Township Based EMS Unit | G6: 3A85 Retains | J6: Township Based EMS Unit | M6: 322A Retains | P6: Township Based EMS Unit | S6: 322A Retains | V6: Township Based EMS Unit
A7: Street Name | B7: Call Total | D7: Street Name | E7: Call Total | G7: Street Name | H7: Call Total | J7: Street Name | K7: Call Total | M7: Street Name | N7: Call Total | P7: Street Name | Q7: Call Total | S7: Street Name | T7: Call Total | V7: Street Name | W7: Call Total
A8: ASHBRIDGE CT | B8: 2 | D8: ARCOLA RD | E8: 25 | G8: Township Truck Gets Whole Response Area | J8: AMANDA LN | K8: 1 | M8: ARGYLE LN | N8: 1 | P8: BLACK ROCK RD | Q8: 2 | S8: 322A Off Status 6PM to 6AM | V8: ARCOLA AVE / CENTRAL AVE | W8: 1
A9: AUBREY CT | B9: 6 | D9: ASHENFELTER RD | E9: 1 | J9: AMELIA ST | K9: 8 | M9: BROWER AVE | N9: 1 | P9: BLACK ROCK RD / ASHENFELTER RD | Q9: 2 | V9: BLACK ROCK RD | W9: 4
A10: AUBREY LN | B10: 2 | D10: BASSWOOD CT | E10: 1 | J10: ANDERSON RD | K10: 6 | M10: CARDINAL LN | N10: 1 | P10: CIDER MILL RD / UPPER INDIAN HEAD RD | Q10: 1 | V10: BLACK ROCK RD / GUMBES RD | W10: 1
A11: BECHTEL RD | B11: 2 | D11: BIRCHLEAF DR | E11: 1 | J11: BLACK ROCK RD | K11: 4 | M11: CAROLINE DR | N11: 1 | P11: CRESTWOOD CT | Q11: 1 | V11: BLACK ROCK RD / OLYMPIC RD | W11: 1
A12: BECHTEL RD / SPRING MILL LN | B12: 1 | D12: BLACK ROCK RD | E12: 75 | J12: BLACK ROCK RD / REGENCY HILLS DR | K12: 2 | M12: CENTER AVE | N12: 3 | P12: GREEN TREE RD | Q12: 1 | V12: BROWER AVE | W12: 1
A13: BELLMONT DR | B13: 1 | D13: BLACK ROCK RD / GOLDFINCH CIR | E13: 1 | J13: BLACK ROCK RD / TROUTMAN RD | K13: 1 | M13: CIDER MILL RD | N13: 5 | P13: IRONWOOD DR | Q13: 2 | V13: CIDER MILL RD | W13: 4
A14: BORO LINE RD / S LEWIS RD | B14: 2 | D14: BLACK ROCK RD / S COLLEGEVILLE RD | E14: 2 | J14: BRANDON CIR | K14: 1 | M14: CRESSON BLVD | N14: 23 | P14: LITTLE KNOLL CIR | Q14: 1 | V14: CRESSON BLVD | W14: 4
A15: BOROUGH LINE RD | B15: 1 | D15: BLACK ROCK RD / S TRAPPE RD | E15: 1 | J15: BRIDGE ST | K15: 14 | M15: EGYPT RD | N15: 3 | P15: PENMORE PL | Q15: 1 | V15: CRESTWOOD CT | W15: 1
A16: BRIDLE LN | B16: 1 | D16: BLACK ROCK RD / YEAGER RD | E16: 1 | J16: BRIDGE ST / AMELIA ST | K16: 1 | M16: EGYPT RD | N16: 11 | P16: PIN OAKS DR | Q16: 2 | V16: EGYPT RD | W16: 12
A17: BUTTONWOOD DR | B17: 3 | D17: BONNY LN | E17: 2 | J17: BRIDGE ST / EGYPT RD | K17: 1 | M17: EGYPT RD / BLACK ROCK RD | N17: 1 | P17: PIN OAKS DR / WILLOWWOOD DR | Q17: 1 | V17: EGYPT RD / BLACK ROCK RD | W17: 2
A18: CAMBRIDGE DR | B18: 1 | D18: BROAD ST | E18: 1 | J18: CALDER WAY N | K18: 2 | M18: EGYPT RD / CIDER MILL RD | N18: 1 | P18: RT422 EB | Q18: 7 | V18: EGYPT RD / CIDER MILL RD | W18: 1
A19: CHERRYWOOD CT | B19: 5 | D19: CAMPUS DR | E19: 11 | J19: CANAL ST | K19: 3 | M19: EGYPT RD / GREEN TREE RD | N19: 1 | P19: S REBER RD | Q19: 3 | V19: EGYPT RD / GREEN TREE RD | W19: 1
A20: COLLEGE AVE | B20: 1 | D20: CARRIAGE CIR | E20: 1 | J20: COBBLESTONE CT | K20: 1 | M20: EGYPT RD / RAMP RT422 EB TO EGYPT RD | N20: 1 | P20: SCHUYLKILL RIVER TRL | Q20: 2 | V20: EGYPT RD / RAMP RT422 WB TO EGYPT RD | W20: 1
... A22: DONNY BROOK WAY | B22: 1 | D22: COMMERCE DR | E22: 9 | J22: EDEN BLVD / EGYPT RD | K22: 1 | M22: EGYPT RD 100 | N22: 1 | P22: WINDING RIDGE RD | Q22: 1 | V22: GUMBES RD | W22: 1
A23: FAIRFIELD CIR N | B23: 3 | D23: CONSTITUTION DR | E23: 1 | J23: EGYPT RD | K23: 3 | M23: GUMBES RD | N23: 1 | V23: HAWTHORNE LN | W23: 2
A24: FAIRFIELD CIR W | B24: 2 | D24: EAGLE RD | E24: 1 | J24: EGYPT RD / BRIDGE ST | K24: 1 | M24: HONEYSUCKLE LN | N24: 1 | V24: HONEYSUCKLE LN | W24: 1
A25: GREENWOOD AVE | B25: 4 | D25: FOX RUN DR | E25: 1 | J25: EGYPT RD / EDEN BLVD | K25: 1 | M25: LAUREL LN | N25: 2 | V25: HUNT CLUB DR | W25: 4
A26: HAWTHORNE CT | B26: 2 | D26: FRONT ST | E26: 9 | J26: EGYPT RD / WHITAKER AVE | K26: 1 | M26: LEATHERWOOD DR | N26: 1 | V26: IRONWOOD DR | W26: 1
A27: HEMLOCK DR | B27: 2 | D27: FRUIT FARM RD | E27: 1 | J27: FARRINGTON CT | K27: 2 | M27: MILL RD | N27: 17 | V27: LARKSPUR LN | W27: 1
A28: HESS RD | B28: 1 | D28: GATESHEAD WAY | E28: 3 | J28: GREEN ST | K28: 1 | M28: MONTGOMERY AVE | N28: 3 | V28: LAUREL LN | W28: 1
A29: HILLCREST CT | B29: 1 | D29: GOLDFINCH CIR | E29: 4 | J29: HAMILTON ST | K29: 1 | M29: NEW MILL RD | N29: 1 | V29: MILL RD | W29: 15
A30: HONEYLOCUST CT | B30: 2 | D30: HERON CT | E30: 1 | J30: HANOVER RD | K30: 6 | M30: NEW MILL RD / EGYPT RD | N30: 1 | V30: NEW MILL RD | W30: 1
A31: HOPWOOD RD | B31: 3 | D31: HICKORY PL | E31: 1 | J31: HILLVIEW DR | K31: 1 | M31: PAGE LN | N31: 1 | V31: NORSHAM WAY | W31: 2
A32: HOPWOOD RD / DONNY BROOK WAY | B32: 1 | D32: HOPEWELL DR | E32: 2 | J32: HOLLOW RD | K32: 7 | M32: PENNCO RD | N32: 4 | V32: OLYMPIC RD | W32: 1
A33: HOPWOOD RD / HARVEST LN | B33: 1 | D33: JOSHUA TREE DR | E33: 1 | J33: HOLLOW RD / EGYPT RD | K33: 1 | M33: PERKIOMEN AVE | N33: 2 | V33: PAGE LN | W33: 3
A34: HOPWOOD RD / MORGAN LN | B34: 2 | D34: KEYSTONE CT | E34: 1 | J34: HUDSON DR | K34: 3 | M34: RT422 WB | N34: 9 | V34: PENMORE PL | W34: 1
A35: HOPWOOD RD / OLD RT29 | B35: 1 | D35: MARKET ST | E35: 9 | J35: JACOBS ST | K35: 3 | M35: STATION AVE | N35: 11 | V35: PENNCO RD | W35: 5
A36: IRON BARK CT | B36: 4 | D36: MARSHWOOD DR | E36: 1 | J36: LOGAN RD | K36: 6 | V36: PERKIOMEN AVE | W36: 1
A37: ITHAN LN | B37: 1 | D37: MENNONITE RD | E37: 10 | J37: LONGFORD RD | K37: 6 | V37: RAMP RT422 EB TO EGYPT RD | W37: 1
A38: KLINE RD | B38: 1 | D38: MENNONITE RD / BONNY LN | E38: 1 | J38: LONGFORD RD / BLACK ROCK RD | K38: 2 | V38: RAMP RT422 WB TO RT29 | W38: 1
A39: KNOLL DR | B39: 2 | D39: MENNONITE RD / CONSTITUTION DR | E39: 1 | J39: LONGFORD RD / EGYPT RD | K39: 1 | V39: RT422 EB | W39: 2
A40: LARCHWOOD CT | B40: 18 | D40: OLD STATE RD | E40: 5 | J40: LONGFORD RD / PORT PROVIDENCE RD | K40: 2 | V40: RT422 OVERPASS / EGYPT RD | W40: 1
A41: LINDEN WAY | B41: 1 | D41: OSPREY WAY | E41: 4 | J41: MAC DADE RD | K41: 1 | V41: RT422 WB | W41: 4
A42: LINFIELD TRAPPE RD | B42: 5 | D42: PAPERBIRCH DR | E42: 2 | J42: MAC DADE RD / S COLLEGEVILLE RD | K42: 1 | V42: STATION AVE | W42: 3
...
